BEGIN:VCALENDAR
VERSION:2.0
PRODID:-//AYSO UNITED - ECPv6.8.1//NONSGML v1.0//EN
CALSCALE:GREGORIAN
METHOD:PUBLISH
X-ORIGINAL-URL:https://aysounited.org
X-WR-CALDESC:Events for AYSO UNITED
REFRESH-INTERVAL;VALUE=DURATION:PT1H
X-Robots-Tag:noindex
X-PUBLISHED-TTL:PT1H
BEGIN:VTIMEZONE
TZID:America/Detroit
BEGIN:DAYLIGHT
TZOFFSETFROM:-0500
TZOFFSETTO:-0400
TZNAME:EDT
DTSTART:20220313T070000
END:DAYLIGHT
BEGIN:STANDARD
TZOFFSETFROM:-0400
TZOFFSETTO:-0500
TZNAME:EST
DTSTART:20221106T060000
END:STANDARD
BEGIN:DAYLIGHT
TZOFFSETFROM:-0500
TZOFFSETTO:-0400
TZNAME:EDT
DTSTART:20230312T070000
END:DAYLIGHT
BEGIN:STANDARD
TZOFFSETFROM:-0400
TZOFFSETTO:-0500
TZNAME:EST
DTSTART:20231105T060000
END:STANDARD
BEGIN:DAYLIGHT
TZOFFSETFROM:-0500
TZOFFSETTO:-0400
TZNAME:EDT
DTSTART:20240310T070000
END:DAYLIGHT
BEGIN:STANDARD
TZOFFSETFROM:-0400
TZOFFSETTO:-0500
TZNAME:EST
DTSTART:20241103T060000
END:STANDARD
BEGIN:DAYLIGHT
TZOFFSETFROM:-0500
TZOFFSETTO:-0400
TZNAME:EDT
DTSTART:20250309T070000
END:DAYLIGHT
BEGIN:STANDARD
TZOFFSETFROM:-0400
TZOFFSETTO:-0500
TZNAME:EST
DTSTART:20251102T060000
END:STANDARD
END:VTIMEZONE
BEGIN:VEVENT
DTSTART;VALUE=DATE:20251123
DTEND;VALUE=DATE:20251202
DTSTAMP:20260423T142323
CREATED:20241003T143535Z
LAST-MODIFIED:20241003T143732Z
UID:19118-1763856000-1764633599@aysounited.org
SUMMARY:Spain U15 & U17 Boys and Girls November 23rd-Dec 1st
DESCRIPTION:
URL:https://aysounited.org/event/spain-u15-u17-boys-and-girls-november-23rd-dec-1st/
LOCATION:Spain\, Spain
CATEGORIES:ALABAMA,Antelope Valley,ANTIETAM,Arizona,Bay Area,Bergen County,Cedar Rapids,Central,Channel Islands,Davis,Diablo Valley,Downey,Hawaii,Home,Knoxville,Los Angeles,New Mexico,North County SD,Orange County,Pacific,Rancho Conejo,Redlands,San Diego,Santa Clarita,Silicon Valley,South Bay,Utah,West Michigan,Wichita
ATTACH;FMTTYPE=image/webp:https://aysounited.org/wp-content/uploads/2024/10/cropped-Global_sports_experiences_logo_horizontal.webp
END:VEVENT
BEGIN:VEVENT
DTSTART;VALUE=DATE:20250801
DTEND;VALUE=DATE:20250811
DTSTAMP:20260423T142323
CREATED:20241003T143305Z
LAST-MODIFIED:20241003T143744Z
UID:19112-1754006400-1754870399@aysounited.org
SUMMARY:England U10\, U14\, U14\, U16 Boys & Girls (Pre-Season) August 1st-10th
DESCRIPTION:
URL:https://aysounited.org/event/england-u10-u14-u14-u16-boys-girls-pre-season-august-1st-10th/
LOCATION:England\, United Kingdom
CATEGORIES:ALABAMA,Antelope Valley,ANTIETAM,Arizona,Bay Area,Bergen County,Cedar Rapids,Central,Channel Islands,Davis,Diablo Valley,Downey,Hawaii,Home,Knoxville,Los Angeles,New Mexico,North County SD,Orange County,Pacific,Rancho Conejo,Redlands,San Diego,Santa Clarita,Silicon Valley,South Bay,Utah,West Michigan,Wichita
ATTACH;FMTTYPE=image/png:https://aysounited.org/wp-content/uploads/2024/10/thumbnail_goplay-logo1.png
END:VEVENT
BEGIN:VEVENT
DTSTART;VALUE=DATE:20250501
DTEND;VALUE=DATE:20250505
DTSTAMP:20260423T142323
CREATED:20250117T151648Z
LAST-MODIFIED:20250117T151648Z
UID:19346-1746057600-1746403199@aysounited.org
SUMMARY:SECTION 7 EXPO
DESCRIPTION:WELCOME!\n\n\nWelcome to the AYSO EXPO 2025 site for Section 7! We are excited to host this event in Honolulu\, HI and provide opportunities for training\, certification\, and continuing education for all volunteers. We also offer great networking avenues to connect with other volunteers from surrounding Regions. \nHere you will find all the event details you are looking for including\, costs\, agenda and registration links. \nWe hope to see in Honolulu\, HI\, so mark your calendar to join us as we share ideas\, stories\, and our love of soccer with other AYSO volunteers just like you! \nMORE INFORMATION COMING SOON
URL:https://aysounited.org/event/section-7-expo/
CATEGORIES:ALABAMA,Antelope Valley,ANTIETAM,Arizona,Bay Area,Bergen County,Cedar Rapids,Central,Channel Islands,Davis,Diablo Valley,Downey,Hawaii,Home,Knoxville,Los Angeles,New Mexico,North County SD,Orange County,Pacific,Rancho Conejo,Redlands,San Diego,Santa Clarita,Silicon Valley,South Bay,Utah,West Michigan,Wichita
ATTACH;FMTTYPE=image/png:https://aysounited.org/wp-content/uploads/2025/01/Screenshot-2025-01-17-at-10.15.42 AM.png
END:VEVENT
BEGIN:VEVENT
DTSTART;VALUE=DATE:20250327
DTEND;VALUE=DATE:20250401
DTSTAMP:20260423T142323
CREATED:20250117T151524Z
LAST-MODIFIED:20250117T151524Z
UID:19343-1743033600-1743465599@aysounited.org
SUMMARY:SECTION 1/10/11 EXPO
DESCRIPTION:WELCOME!\n\nWelcome to the AYSO EXPO 2025 website for Sections 1/10/11. We are excited to host this event in San Diego\, CA and provide opportunities for training\, certification\, and continuing education for all volunteers. We also offer great networking avenues to connect with other volunteers from surrounding Regions. \nHere you will find all the event details you are looking for including\, costs\, agenda and registration links. \nWe hope to see you in San Diego\, CA\, so mark your calendar to join us as we share ideas\, stories\, and our love of soccer with other AYSO volunteers just like you! \n\nMORE INFORMATION COMING SOON
URL:https://aysounited.org/event/section-1-10-11-expo/
CATEGORIES:ALABAMA,Antelope Valley,ANTIETAM,Arizona,Bay Area,Bergen County,Cedar Rapids,Central,Channel Islands,Davis,Diablo Valley,Downey,Hawaii,Home,Knoxville,Los Angeles,New Mexico,North County SD,Orange County,Pacific,Rancho Conejo,Redlands,San Diego,Santa Clarita,Silicon Valley,South Bay,Utah,West Michigan,Wichita
ATTACH;FMTTYPE=image/png:https://aysounited.org/wp-content/uploads/2025/01/Screenshot-2025-01-17-at-10.14.19 AM.png
END:VEVENT
BEGIN:VEVENT
DTSTART;VALUE=DATE:20250314
DTEND;VALUE=DATE:20250317
DTSTAMP:20260423T142323
CREATED:20250117T151341Z
LAST-MODIFIED:20250117T151341Z
UID:19340-1741910400-1742169599@aysounited.org
SUMMARY:SECTION 8 EXPO
DESCRIPTION:WELCOME!\nWelcome to the AYSO EXPO 2025 site for Section 8! We are excited to host this event in Southfield\, MI and provide opportunities for training\, certification\, and continuing education for all volunteers. We also offer great networking avenues to connect with other volunteers from surrounding Regions. \nHere you will find all the event details you are looking for including\, costs\, agenda and registration links. \nWe hope to see in Southfield\, MI\, so mark your calendar to join us as we share ideas\, stories\, and our love of soccer with other AYSO volunteers just like you! \nMORE INFORMATION COMING SOON
URL:https://aysounited.org/event/section-8-expo/
CATEGORIES:ALABAMA,Antelope Valley,ANTIETAM,Arizona,Bay Area,Bergen County,Cedar Rapids,Central,Channel Islands,Davis,Diablo Valley,Downey,Hawaii,Home,Knoxville,Los Angeles,New Mexico,North County SD,Orange County,Pacific,Rancho Conejo,Redlands,San Diego,Santa Clarita,Silicon Valley,South Bay,Utah,West Michigan,Wichita
ATTACH;FMTTYPE=image/png:https://aysounited.org/wp-content/uploads/2025/01/Screenshot-2025-01-17-at-10.12.13 AM.png
END:VEVENT
BEGIN:VEVENT
DTSTART;VALUE=DATE:20250314
DTEND;VALUE=DATE:20250317
DTSTAMP:20260423T142323
CREATED:20250117T151202Z
LAST-MODIFIED:20250117T151202Z
UID:19337-1741910400-1742169599@aysounited.org
SUMMARY:SECTION 13 EXPO
DESCRIPTION:WELCOME!\n\nWelcome to the AYSO EXPO 2025 site for Section 13! We are excited to host this event in Williamsport\, PA and provide opportunities for training\, certification\, and continuing education for all volunteers. We also offer great networking avenues to connect with other volunteers from surrounding Regions. Here you will find all the event details you are looking for including\, costs\, agenda and registration links. \nWe hope to see in Williamsport\, PA\, so mark your calendar to join us as we share ideas\, stories\, and our love of soccer with other AYSO volunteers just like you! \nREGISTRATION FOR PARTICIPANTS:  https://ayso.sportsaffinity.com/eventmanager/public/event.asp?calid=16328254 \nREGISTRATION FOR VENDORS:  https://ayso.sportsaffinity.com/eventmanager/public/event.asp?calid=16328318
URL:https://aysounited.org/event/section-13-expo/
CATEGORIES:ALABAMA,Antelope Valley,ANTIETAM,Arizona,Bay Area,Bergen County,Cedar Rapids,Central,Channel Islands,Davis,Diablo Valley,Downey,Hawaii,Home,Knoxville,Los Angeles,New Mexico,North County SD,Orange County,Pacific,Rancho Conejo,Redlands,San Diego,Santa Clarita,Silicon Valley,South Bay,Utah,West Michigan,Wichita
ATTACH;FMTTYPE=image/png:https://aysounited.org/wp-content/uploads/2025/01/Screenshot-2025-01-17-at-10.11.07 AM.png
END:VEVENT
BEGIN:VEVENT
DTSTART;VALUE=DATE:20250307
DTEND;VALUE=DATE:20250310
DTSTAMP:20260423T142323
CREATED:20250117T151048Z
LAST-MODIFIED:20250117T151048Z
UID:19334-1741305600-1741564799@aysounited.org
SUMMARY:SECTION 3 EXPO
DESCRIPTION:WELCOME!\n\nWelcome to the AYSO EXPO 2025 site for Section 3! We are excited to host this event in Southbury\, CT and provide opportunities for training\, certification\, and continuing education for all volunteers. We also offer great networking avenues to connect with other volunteers from surrounding Regions. \nHere you will find all the event details you are looking for including\, costs\, agenda and registration links. \nWe hope to see in Southbury\, CT\, so mark your calendar to join us as we share ideas\, stories\, and our love of soccer with other AYSO volunteers just like you!
URL:https://aysounited.org/event/section-3-expo/
CATEGORIES:ALABAMA,Antelope Valley,ANTIETAM,Arizona,Bay Area,Bergen County,Cedar Rapids,Central,Channel Islands,Davis,Diablo Valley,Downey,Hawaii,Home,Knoxville,Los Angeles,New Mexico,North County SD,Orange County,Pacific,Rancho Conejo,Redlands,San Diego,Santa Clarita,Silicon Valley,South Bay,Utah,West Michigan,Wichita
ATTACH;FMTTYPE=image/png:https://aysounited.org/wp-content/uploads/2025/01/Screenshot-2025-01-17-at-10.09.37 AM.png
END:VEVENT
BEGIN:VEVENT
DTSTART;VALUE=DATE:20250221
DTEND;VALUE=DATE:20250224
DTSTAMP:20260423T142323
CREATED:20250117T150920Z
LAST-MODIFIED:20250117T150920Z
UID:19331-1740096000-1740355199@aysounited.org
SUMMARY:SECTION 5/14 EXPO
DESCRIPTION:WELCOME!\nWelcome to the AYSO EXPO 2025 site for Sections 5 and 14! We are excited to host this event in Nashville\, TN and provide opportunities for training\, certification\, and continuing education for all volunteers. We also offer great networking avenues to connect with other volunteers from surrounding Regions. \nHere you will find all the event details you are looking for including\, costs\, agenda and registration links. \nWe hope to see in Nashville\, TN\, so mark your calendar to join us as we share ideas\, stories\, and our love of soccer with other AYSO volunteers just like you!
URL:https://aysounited.org/event/section-5-14-expo/
CATEGORIES:ALABAMA,Antelope Valley,ANTIETAM,Arizona,Bay Area,Bergen County,Cedar Rapids,Central,Channel Islands,Davis,Diablo Valley,Downey,Hawaii,Home,Knoxville,Los Angeles,New Mexico,North County SD,Orange County,Pacific,Rancho Conejo,Redlands,San Diego,Santa Clarita,Silicon Valley,South Bay,Utah,West Michigan,Wichita
ATTACH;FMTTYPE=image/png:https://aysounited.org/wp-content/uploads/2025/01/Screenshot-2025-01-17-at-10.08.19 AM.png
END:VEVENT
BEGIN:VEVENT
DTSTART;VALUE=DATE:20250220
DTEND;VALUE=DATE:20250224
DTSTAMP:20260423T142323
CREATED:20250117T150758Z
LAST-MODIFIED:20250117T150758Z
UID:19328-1740009600-1740355199@aysounited.org
SUMMARY:SECTION 2/9/12 EXPO
DESCRIPTION:WELCOME!\n\n\nWelcome to the AYSO Sections 2\, 9\, and 12 EXPO!\nSparks\, Nevada\nFeb 20-23\, 2025\n\nWe look forward to seeing you at the Nugget Casino Resort in\nReno/Sparks\, Nevada.  We will be offering a wide variety of courses\nincluding Instructor Courses\, RC/AD Training\, Referee\, Coach\,\nManagement\, and Systems training.  You will have the opportunity to\n\nmeet and network with volunteers across sections 2\, 9\, and 12. \n\nEarly Bird Registration is $275 (ends January 15\, 2025)\nUse discount code 2025early at checkout.\nRegular Registration is $325 (begins January 16\, 2025) \nMeals that are included in the full event are: Saturday Breakfast\, Saturday Lunch\, and Sunday Breakfast. \nMeals included in Saturday Only are: Saturday Breakfast and Saturday Lunch. \nAs we get closer to the event\, as you are planning your weekend of courses\, save time for yourself and our volunteer instructors by logging into AYSOU and enrolling in your courses.  This will help ensure you get credit for everything you plan on taking during the weekend. \nNugget Casino Resort Booking Information: https://nuggetcasinoresort.book.pegsbe.com/promo?propertyCode=NCR&offerCode=GAYSO25 \n\nNugget Casino Resort: 1100 Nugget Ave\, Sparks Nevada\, 89431\n\n(800) 648-1177 \nFor additional help or questions please email Section 9 Director Shannon Gordon at aysosection9sd@gmail.com. \nWe can’t wait to see you at the Nugget! \n\nDuston Denver\, S2 SD\nShannon Gordon\, S9 SD\nRegister Now \nExpo Agenda Click Here \nExpo Course Catalog Click Here \n\nVendor registration Click Here
URL:https://aysounited.org/event/section-2-9-12-expo/
CATEGORIES:ALABAMA,Antelope Valley,ANTIETAM,Arizona,Bay Area,Bergen County,Cedar Rapids,Central,Channel Islands,Davis,Diablo Valley,Downey,Hawaii,Home,Knoxville,Los Angeles,New Mexico,North County SD,Orange County,Pacific,Rancho Conejo,Redlands,San Diego,Santa Clarita,Silicon Valley,South Bay,Utah,West Michigan,Wichita
ATTACH;FMTTYPE=image/png:https://aysounited.org/wp-content/uploads/2025/01/Screenshot-2025-01-17-at-10.04.21 AM.png
END:VEVENT
BEGIN:VEVENT
DTSTART;VALUE=DATE:20250214
DTEND;VALUE=DATE:20250217
DTSTAMP:20260423T142323
CREATED:20250117T150345Z
LAST-MODIFIED:20250117T150345Z
UID:19325-1739491200-1739750399@aysounited.org
SUMMARY:SECTION 6 EXPO
DESCRIPTION:WELCOME!\nWelcome to the AYSO EXPO 2025 site for Section 6! We are excited to host this event in Naperville\, IL and provide opportunities for training\, certification\, and continuing education for all volunteers. We also offer great networking avenues to connect with other volunteers from surrounding Regions. \nHere you will find all the event details you are looking for including\, costs\, agenda and registration links. \nWe hope to see in Naperville\, IL\, so mark your calendar to join us as we share ideas\, stories\, and our love of soccer with other AYSO volunteers just like you! \n\nPlease note: Volunteers sign up link for registration table\, ticket takers and roster manager. \nAYSO Section 6: AYSO Section 2025 EXPO (signupgenius.com) \nLink to PDF on how to register for this year’s Expo. \n2025 AYSO section EXPO registration guide.pdf \nIn Person RC Training will be held in conjunction with this Expo for new regional commissioners and those who have not previously taken it.  It will start on February 14th at 8:00AM at Chicago Naperville Marriott.  You can sign up for this required training at the same time you register for Expo.
URL:https://aysounited.org/event/section-6-expo/
CATEGORIES:ALABAMA,Antelope Valley,ANTIETAM,Arizona,Bay Area,Bergen County,Cedar Rapids,Central,Channel Islands,Davis,Diablo Valley,Downey,Hawaii,Home,Knoxville,Los Angeles,New Mexico,North County SD,Orange County,Pacific,Rancho Conejo,Redlands,San Diego,Santa Clarita,Silicon Valley,South Bay,Utah,West Michigan,Wichita
ATTACH;FMTTYPE=image/png:https://aysounited.org/wp-content/uploads/2025/01/Screenshot-2025-01-17-at-10.01.51 AM.png
END:VEVENT
BEGIN:VEVENT
DTSTART;VALUE=DATE:20240325
DTEND;VALUE=DATE:20240403
DTSTAMP:20260423T142323
CREATED:20230413T174738Z
LAST-MODIFIED:20230831T180954Z
UID:17163-1711324800-1712102399@aysounited.org
SUMMARY:International Girls Tour to England
DESCRIPTION:ɢᴏ ɪɴᴛᴇʀɴᴀᴛɪᴏɴᴀʟ ᴡɪᴛʜ ᴀʏꜱᴏ ᴜɴɪᴛᴇᴅ\nSpring 2024 AYSO United Players are invited to join a United national traveling team\, and experience match play\, training and international culture with our staff. \nWe will be taking girls U17 & U15 Teams to England 🏴󠁧󠁢󠁥󠁮󠁧󠁿 to compete. \nOur International experience is open to any player affiliated with AYSO United. \nRegister your interest by clicking the link in our bio. \n🇮🇹 @bravosportstours\n🏴󠁧󠁢󠁥󠁮󠁧󠁿 @GoPlaySports
URL:https://aysounited.org/event/girlstouritaly/
LOCATION:Dubai
CATEGORIES:ALABAMA,Antelope Valley,ANTIETAM,Arizona,Bay Area,Bergen County,Cedar Rapids,Central,Channel Islands,Davis,Diablo Valley,Downey,Hawaii,Knoxville,Los Angeles,New Mexico,North County SD,Orange County,Pacific,Rancho Conejo,Redlands,San Diego,Santa Clarita,Silicon Valley,South Bay,Utah,West Michigan,Wichita
ATTACH;FMTTYPE=image/jpeg:https://aysounited.org/wp-content/uploads/2023/04/6c848c86-eb61-4a9e-97f5-e7c4a9b22f21.jpg
END:VEVENT
BEGIN:VEVENT
DTSTART;VALUE=DATE:20240325
DTEND;VALUE=DATE:20240403
DTSTAMP:20260423T142323
CREATED:20230413T174702Z
LAST-MODIFIED:20230831T180928Z
UID:17160-1711324800-1712102399@aysounited.org
SUMMARY:International Boys Tour to Italy
DESCRIPTION:ɢᴏ ɪɴᴛᴇʀɴᴀᴛɪᴏɴᴀʟ ᴡɪᴛʜ ᴀʏꜱᴏ ᴜɴɪᴛᴇᴅ\nSpring 2024 AYSO United Players are invited to join a United national traveling team\, and experience match play\, training and international culture with our staff. \nWe will be taking boys U17 & U15 teams to Italy 🇮🇹 \n\nOur International experience is open to any player affiliated with AYSO United.\nRegister your interest by clicking the link in our bio. \n🇮🇹 @bravosportstours\n🏴󠁧󠁢󠁥󠁮󠁧󠁿 @GoPlaySports
URL:https://aysounited.org/event/boystour/
LOCATION:Dubai
CATEGORIES:ALABAMA,Antelope Valley,ANTIETAM,Arizona,Bay Area,Bergen County,Cedar Rapids,Central,Channel Islands,Davis,Diablo Valley,Downey,Hawaii,Knoxville,Los Angeles,New Mexico,North County SD,Orange County,Pacific,Rancho Conejo,Redlands,San Diego,Santa Clarita,Silicon Valley,South Bay,Utah,West Michigan,Wichita
ATTACH;FMTTYPE=image/jpeg:https://aysounited.org/wp-content/uploads/2023/04/c357adbc-0b0f-4792-bc1c-f937f34a2a72.jpg
END:VEVENT
BEGIN:VEVENT
DTSTART;VALUE=DATE:20240209
DTEND;VALUE=DATE:20240506
DTSTAMP:20260423T142323
CREATED:20230106T223814Z
LAST-MODIFIED:20240125T211005Z
UID:13817-1707436800-1714953599@aysounited.org
SUMMARY:AYSO EXPO's
DESCRIPTION:AYSO EXPOs are annual nationwide events for AYSO volunteers\, hosted by Sections\, that provide opportunities for training\, certification and continuing education for all volunteers: coaches\, referees\, management and more. They are also great networking avenues to connect with other volunteers from surrounding Regions\, that allow you to learn from one another. In addition to the training\, there is a Sponsor/Vendor Show where you can meet not only AYSO National partners but local vendors in your communities that are providing services that can help your programs. It is also a weekend where we celebrate the achievements of volunteers who go above and beyond in your community. \nMark your calendar to join us as we share ideas\, stories and our love of soccer with other AYSO volunteers just like you!
URL:https://aysounited.org/event/ayso-expos/
CATEGORIES:ALABAMA,Antelope Valley,Arizona,Bay Area,Bergen County,Cedar Rapids,Central,Channel Islands,Davis,Diablo Valley,Downey,Hawaii,Home,Knoxville,Los Angeles,New Mexico,North County SD,Orange County,Pacific,Rancho Conejo,Redlands,San Diego,Santa Clarita,Silicon Valley,South Bay,Utah,West Michigan,Wichita
ATTACH;FMTTYPE=image/png:https://aysounited.org/wp-content/uploads/2023/01/kid-pic-v1.png
END:VEVENT
BEGIN:VEVENT
DTSTART;VALUE=DATE:20230929
DTEND;VALUE=DATE:20231002
DTSTAMP:20260423T142323
CREATED:20230309T184039Z
LAST-MODIFIED:20230901T134028Z
UID:15825-1695945600-1696204799@aysounited.org
SUMMARY:AYSO UNITED ARIZONA CUP
DESCRIPTION:For more information contact: soccertouraments@elitesportsaz.com or visit https://aysounitedsoccer.com/ayso-united-arizona-cup-soccer-tournament/ 
URL:https://aysounited.org/event/ayso-united-arizona-cup-2/
LOCATION:Bell Bank Park\, 1 Legacy Dr\, Mesa\, AZ\, 85212\, United States
CATEGORIES:ALABAMA,Antelope Valley,Arizona,Bay Area,Bergen County,Cedar Rapids,Central,Channel Islands,Davis,Diablo Valley,Downey,Hawaii,Knoxville,Los Angeles,New Mexico,North County SD,Orange County,Pacific,Rancho Conejo,Redlands,San Diego,Santa Clarita,Silicon Valley,South Bay,Utah,West Michigan,Wichita
ATTACH;FMTTYPE=image/webp:https://aysounited.org/wp-content/uploads/2023/03/AYSO-United-Arizona-2023-Tournament-12.webp
END:VEVENT
BEGIN:VEVENT
DTSTART;TZID=America/Detroit:20230711T080000
DTEND;TZID=America/Detroit:20230715T170000
DTSTAMP:20260423T142323
CREATED:20221207T164312Z
LAST-MODIFIED:20221215T173112Z
UID:12724-1689062400-1689440400@aysounited.org
SUMMARY:ID64 Camp Back for 2023
DESCRIPTION:We are excited to announce that the ID64 Camp will be back for our selected players this Summer of 2023. \nMore Information to come……. \n 
URL:https://aysounited.org/event/id64-camp-back-for-2023/
LOCATION:Chula Vista National Training Complex\, 2800 Olympic Parkway\, Chula Vista\, CA\, 91915\, United States
CATEGORIES:ALABAMA,Antelope Valley,ANTIETAM,Arizona,Bay Area,Bergen County,Cedar Rapids,Central,Channel Islands,Davis,Diablo Valley,Downey,Hawaii,Knoxville,Los Angeles,New Mexico,North County SD,Orange County,Pacific,Rancho Conejo,Redlands,San Diego,Santa Clarita,Silicon Valley,South Bay,Utah,West Michigan,Wichita
ATTACH;FMTTYPE=image/png:https://aysounited.org/wp-content/uploads/2022/12/033e9c134b7850223f4c43809c39613a.png
END:VEVENT
BEGIN:VEVENT
DTSTART;VALUE=DATE:20230111
DTEND;VALUE=DATE:20230116
DTSTAMP:20260423T142323
CREATED:20230105T160512Z
LAST-MODIFIED:20230413T184947Z
UID:13743-1673395200-1673827199@aysounited.org
SUMMARY:United Soccer Coaches Convention
DESCRIPTION:Reasons to Attend Convention\n\n\n\n\n\n\n\n\nYou May Ask Yourself: Why should I Attend Convention? \nThe investment you make to attend Convention will bring you a payout in countless ways with your personal and professional development. This event is a world-class opportunity to invest in your career\, your players\, and the coaching profession. The following are a few examples of how you will benefit from the Convention. \nEducation \nYou will learn from and spend time with some of the most accomplished presenters during the hundreds of sessions that are offered. These also include core and special topic diplomas which will be available. These programs will result in better coaching experiences for you\, your players\, and overall on-field success. \nCareer Development/Networking \nThe networking opportunities alone will make an impact on your career. You will create and build relationships with new\, like-minded coaches and form friendships that will last a lifetime. You will also be able to meet up with coaching friends\, colleagues\, and contacts that you may only get to see once a year. \nThe Business of Soccer\nThe Exhibit Hall is a vibrant marketplace of a variety of companies that make it a one-stop shop for all your team needs. Companies range from equipment\, apparel\, insurance\, tournaments\, all the way to awards companies. Meet with new companies to learn about new products and discounts to equip your team for next season! \nNew Experiences Added All the Time\nEach and every year Convention offers new and exciting ways to enhance your experience. From offering the National Diploma at Convention to previously hosting the MLS and NWSL Drafts\, you’ll always find something new at this annual event. 
URL:https://aysounited.org/event/usc/
LOCATION:Pennsylvania Convention Center in Philadelphia\, 1101 Arch St\, Philadelphia\, PA\, 19107\, United States
CATEGORIES:ALABAMA,Antelope Valley,Arizona,Bay Area,Bergen County,Cedar Rapids,Central,Channel Islands,Davis,Diablo Valley,Downey,Hawaii,Knoxville,Los Angeles,New Mexico,North County SD,Orange County,Pacific,Rancho Conejo,Redlands,San Diego,Santa Clarita,Silicon Valley,South Bay,Utah,West Michigan,Wichita
ATTACH;FMTTYPE=image/png:https://aysounited.org/wp-content/uploads/2023/01/Unknown.png
END:VEVENT
BEGIN:VEVENT
DTSTART;TZID=America/Detroit:20220720T000000
DTEND;TZID=America/Detroit:20220720T000000
DTSTAMP:20260423T142323
CREATED:20220720T232723Z
LAST-MODIFIED:20220825T214431Z
UID:7245-1658275200-1658275200@aysounited.org
SUMMARY:To be announced!
DESCRIPTION:Check back soon for more events.
URL:https://aysounited.org/event/test-event/
CATEGORIES:ALABAMA,Antelope Valley,Arizona,Bay Area,Bergen County,Cedar Rapids,Central,Channel Islands,Davis,Diablo Valley,Downey,Hawaii,Home,Knoxville,Los Angeles,New Mexico,North County SD,Orange County,Pacific,Rancho Conejo,Redlands,San Diego,Santa Clarita,Silicon Valley,South Bay,Utah,West Michigan,Wichita
ATTACH;FMTTYPE=image/png:https://aysounited.org/wp-content/uploads/2022/07/COMING-SOON.png
END:VEVENT
END:VCALENDAR