BEGIN:VCALENDAR
VERSION:2.0
PRODID:-//AYSO UNITED - ECPv6.8.1//NONSGML v1.0//EN
CALSCALE:GREGORIAN
METHOD:PUBLISH
X-ORIGINAL-URL:https://aysounited.org
X-WR-CALDESC:Events for AYSO UNITED
REFRESH-INTERVAL;VALUE=DURATION:PT1H
X-Robots-Tag:noindex
X-PUBLISHED-TTL:PT1H
BEGIN:VTIMEZONE
TZID:America/Detroit
BEGIN:DAYLIGHT
TZOFFSETFROM:-0500
TZOFFSETTO:-0400
TZNAME:EDT
DTSTART:20220313T070000
END:DAYLIGHT
BEGIN:STANDARD
TZOFFSETFROM:-0400
TZOFFSETTO:-0500
TZNAME:EST
DTSTART:20221106T060000
END:STANDARD
BEGIN:DAYLIGHT
TZOFFSETFROM:-0500
TZOFFSETTO:-0400
TZNAME:EDT
DTSTART:20230312T070000
END:DAYLIGHT
BEGIN:STANDARD
TZOFFSETFROM:-0400
TZOFFSETTO:-0500
TZNAME:EST
DTSTART:20231105T060000
END:STANDARD
BEGIN:DAYLIGHT
TZOFFSETFROM:-0500
TZOFFSETTO:-0400
TZNAME:EDT
DTSTART:20240310T070000
END:DAYLIGHT
BEGIN:STANDARD
TZOFFSETFROM:-0400
TZOFFSETTO:-0500
TZNAME:EST
DTSTART:20241103T060000
END:STANDARD
TZID:America/Phoenix
BEGIN:STANDARD
TZOFFSETFROM:-0700
TZOFFSETTO:-0700
TZNAME:MST
DTSTART:20220101T000000
END:STANDARD
END:VTIMEZONE
BEGIN:VEVENT
DTSTART;VALUE=DATE:20240209
DTEND;VALUE=DATE:20240506
DTSTAMP:20260423T154512
CREATED:20230106T223814Z
LAST-MODIFIED:20240125T211005Z
UID:13817-1707436800-1714953599@aysounited.org
SUMMARY:AYSO EXPO's
DESCRIPTION:AYSO EXPOs are annual nationwide events for AYSO volunteers\, hosted by Sections\, that provide opportunities for training\, certification and continuing education for all volunteers: coaches\, referees\, management and more. They are also great networking avenues to connect with other volunteers from surrounding Regions\, that allow you to learn from one another. In addition to the training\, there is a Sponsor/Vendor Show where you can meet not only AYSO National partners but local vendors in your communities that are providing services that can help your programs. It is also a weekend where we celebrate the achievements of volunteers who go above and beyond in your community. \nMark your calendar to join us as we share ideas\, stories and our love of soccer with other AYSO volunteers just like you!
URL:https://aysounited.org/event/ayso-expos/
CATEGORIES:ALABAMA,Antelope Valley,Arizona,Bay Area,Bergen County,Cedar Rapids,Central,Channel Islands,Davis,Diablo Valley,Downey,Hawaii,Home,Knoxville,Los Angeles,New Mexico,North County SD,Orange County,Pacific,Rancho Conejo,Redlands,San Diego,Santa Clarita,Silicon Valley,South Bay,Utah,West Michigan,Wichita
ATTACH;FMTTYPE=image/png:https://aysounited.org/wp-content/uploads/2023/01/kid-pic-v1.png
END:VEVENT
BEGIN:VEVENT
DTSTART;VALUE=DATE:20230929
DTEND;VALUE=DATE:20231002
DTSTAMP:20260423T154512
CREATED:20230309T184039Z
LAST-MODIFIED:20230901T134028Z
UID:15825-1695945600-1696204799@aysounited.org
SUMMARY:AYSO UNITED ARIZONA CUP
DESCRIPTION:For more information contact: soccertouraments@elitesportsaz.com or visit https://aysounitedsoccer.com/ayso-united-arizona-cup-soccer-tournament/ 
URL:https://aysounited.org/event/ayso-united-arizona-cup-2/
LOCATION:Bell Bank Park\, 1 Legacy Dr\, Mesa\, AZ\, 85212\, United States
CATEGORIES:ALABAMA,Antelope Valley,Arizona,Bay Area,Bergen County,Cedar Rapids,Central,Channel Islands,Davis,Diablo Valley,Downey,Hawaii,Knoxville,Los Angeles,New Mexico,North County SD,Orange County,Pacific,Rancho Conejo,Redlands,San Diego,Santa Clarita,Silicon Valley,South Bay,Utah,West Michigan,Wichita
ATTACH;FMTTYPE=image/webp:https://aysounited.org/wp-content/uploads/2023/03/AYSO-United-Arizona-2023-Tournament-12.webp
END:VEVENT
BEGIN:VEVENT
DTSTART;TZID=America/Detroit:20230711T080000
DTEND;TZID=America/Detroit:20230715T170000
DTSTAMP:20260423T154512
CREATED:20221207T164312Z
LAST-MODIFIED:20221215T173112Z
UID:12724-1689062400-1689440400@aysounited.org
SUMMARY:ID64 Camp Back for 2023
DESCRIPTION:We are excited to announce that the ID64 Camp will be back for our selected players this Summer of 2023. \nMore Information to come……. \n 
URL:https://aysounited.org/event/id64-camp-back-for-2023/
LOCATION:Chula Vista National Training Complex\, 2800 Olympic Parkway\, Chula Vista\, CA\, 91915\, United States
CATEGORIES:ALABAMA,Antelope Valley,ANTIETAM,Arizona,Bay Area,Bergen County,Cedar Rapids,Central,Channel Islands,Davis,Diablo Valley,Downey,Hawaii,Knoxville,Los Angeles,New Mexico,North County SD,Orange County,Pacific,Rancho Conejo,Redlands,San Diego,Santa Clarita,Silicon Valley,South Bay,Utah,West Michigan,Wichita
ATTACH;FMTTYPE=image/png:https://aysounited.org/wp-content/uploads/2022/12/033e9c134b7850223f4c43809c39613a.png
END:VEVENT
BEGIN:VEVENT
DTSTART;VALUE=DATE:20230502
DTEND;VALUE=DATE:20230505
DTSTAMP:20260423T154512
CREATED:20230313T163122Z
LAST-MODIFIED:20230410T211105Z
UID:15973-1682985600-1683244799@aysounited.org
SUMMARY:East Valley Girls Tryouts
DESCRIPTION:East Valley Tryouts \nMay 2nd & 4th \nGirls 2013-2005 \n6:30-9:30pm
URL:https://aysounited.org/event/east-valley-girls-tryouts/
LOCATION:South Valley Junior High & Cooley Junior High\, AZ\, United States
CATEGORIES:Arizona
ATTACH;FMTTYPE=image/jpeg:https://aysounited.org/wp-content/uploads/2023/03/EV-Giurls.jpg
END:VEVENT
BEGIN:VEVENT
DTSTART;VALUE=DATE:20230501
DTEND;VALUE=DATE:20230504
DTSTAMP:20260423T154512
CREATED:20230313T163228Z
LAST-MODIFIED:20230410T211158Z
UID:15978-1682899200-1683158399@aysounited.org
SUMMARY:East Valley Boys Tryouts
DESCRIPTION:East Valley Tryouts \nMay 1st & 3rd \nBoys 2013-2005 \n6:30-9:30pm
URL:https://aysounited.org/event/east-valley-boys-tryouts/
LOCATION:South Valley Junior High & Cooley Junior High\, AZ\, United States
CATEGORIES:Arizona
ATTACH;FMTTYPE=image/jpeg:https://aysounited.org/wp-content/uploads/2023/03/EV-Boy.jpg
END:VEVENT
BEGIN:VEVENT
DTSTART;VALUE=DATE:20230501
DTEND;VALUE=DATE:20230505
DTSTAMP:20260423T154512
CREATED:20230313T162851Z
LAST-MODIFIED:20230313T162943Z
UID:15970-1682899200-1683244799@aysounited.org
SUMMARY:Southeast Valley Tryouts
DESCRIPTION:Southeast Valley Tryouts \nMay 1st & 3rd \nGirls 2010 & 2009 \n6:30-8pm \nMay 2nd & 4th \nGirls 2013 \nBoys 2009 \n6:30-8pm
URL:https://aysounited.org/event/southeast-valley-tryouts/
LOCATION:Pecos Park\, 2034 S. Lindsay Road\, Gilbert\, AZ\, 85295\, United States
CATEGORIES:Arizona
ATTACH;FMTTYPE=image/jpeg:https://aysounited.org/wp-content/uploads/2023/03/S-Valley.jpg
END:VEVENT
BEGIN:VEVENT
DTSTART;VALUE=DATE:20230427
DTEND;VALUE=DATE:20230430
DTSTAMP:20260423T154512
CREATED:20230313T162623Z
LAST-MODIFIED:20230410T211236Z
UID:15966-1682553600-1682812799@aysounited.org
SUMMARY:2014 Boys and Girls Tryouts
DESCRIPTION:2014 Boys and Girls Tryouts \nEast Valley \nApril 27th & 29th \n 
URL:https://aysounited.org/event/2014-boys-and-girls-tryouts/
LOCATION:Highland Junior High\, 6915 E. Guadalupe Rd\, Mesa\, AZ\, 85212\, United States
CATEGORIES:Arizona
ATTACH;FMTTYPE=image/jpeg:https://aysounited.org/wp-content/uploads/2023/03/1b4f694a-59f0-46c0-94e6-23e8ed8cd182.jpg
END:VEVENT
BEGIN:VEVENT
DTSTART;VALUE=DATE:20230111
DTEND;VALUE=DATE:20230116
DTSTAMP:20260423T154512
CREATED:20230105T160512Z
LAST-MODIFIED:20230413T184947Z
UID:13743-1673395200-1673827199@aysounited.org
SUMMARY:United Soccer Coaches Convention
DESCRIPTION:Reasons to Attend Convention\n\n\n\n\n\n\n\n\nYou May Ask Yourself: Why should I Attend Convention? \nThe investment you make to attend Convention will bring you a payout in countless ways with your personal and professional development. This event is a world-class opportunity to invest in your career\, your players\, and the coaching profession. The following are a few examples of how you will benefit from the Convention. \nEducation \nYou will learn from and spend time with some of the most accomplished presenters during the hundreds of sessions that are offered. These also include core and special topic diplomas which will be available. These programs will result in better coaching experiences for you\, your players\, and overall on-field success. \nCareer Development/Networking \nThe networking opportunities alone will make an impact on your career. You will create and build relationships with new\, like-minded coaches and form friendships that will last a lifetime. You will also be able to meet up with coaching friends\, colleagues\, and contacts that you may only get to see once a year. \nThe Business of Soccer\nThe Exhibit Hall is a vibrant marketplace of a variety of companies that make it a one-stop shop for all your team needs. Companies range from equipment\, apparel\, insurance\, tournaments\, all the way to awards companies. Meet with new companies to learn about new products and discounts to equip your team for next season! \nNew Experiences Added All the Time\nEach and every year Convention offers new and exciting ways to enhance your experience. From offering the National Diploma at Convention to previously hosting the MLS and NWSL Drafts\, you’ll always find something new at this annual event. 
URL:https://aysounited.org/event/usc/
LOCATION:Pennsylvania Convention Center in Philadelphia\, 1101 Arch St\, Philadelphia\, PA\, 19107\, United States
CATEGORIES:ALABAMA,Antelope Valley,Arizona,Bay Area,Bergen County,Cedar Rapids,Central,Channel Islands,Davis,Diablo Valley,Downey,Hawaii,Knoxville,Los Angeles,New Mexico,North County SD,Orange County,Pacific,Rancho Conejo,Redlands,San Diego,Santa Clarita,Silicon Valley,South Bay,Utah,West Michigan,Wichita
ATTACH;FMTTYPE=image/png:https://aysounited.org/wp-content/uploads/2023/01/Unknown.png
END:VEVENT
BEGIN:VEVENT
DTSTART;TZID=America/Detroit:20221231T170000
DTEND;TZID=America/Detroit:20221231T210000
DTSTAMP:20260423T154512
CREATED:20221013T154403Z
LAST-MODIFIED:20221109T194920Z
UID:10734-1672506000-1672520400@aysounited.org
SUMMARY:US Grassroots Referee Course
DESCRIPTION:AYSO United has always believed that part of our growth as a club is to continue to educate more and more people about this great game. \nPart of that education is to provide players\, coaches and fans with the opportunity to become USSF Certified Referees. If you want an opportunity to earn extra money\, or have ever thought you would like to give it a try\, we invite you to sign up through https://www.azref.com/getting-started and complete the process.
URL:https://aysounited.org/event/us-grassroots-referee-course/
LOCATION:Highland Junior High School\, 6915 E Guadalupe Rd\, Mesa\, AZ\, 85212\, United States
CATEGORIES:Arizona
ATTACH;FMTTYPE=image/jpeg:https://aysounited.org/wp-content/uploads/2022/10/cb0adeaf-c7db-4ce3-929e-462dcb8aa1c8.jpg
END:VEVENT
BEGIN:VEVENT
DTSTART;TZID=America/Phoenix:20221130T080000
DTEND;TZID=America/Phoenix:20221202T170000
DTSTAMP:20260423T154512
CREATED:20220921T150505Z
LAST-MODIFIED:20221109T214933Z
UID:9857-1669795200-1670000400@aysounited.org
SUMMARY:AYSO United Arizona Cup
DESCRIPTION:AYSO United AZ is excited to announce our AYSO United AZ Cup Presented by Superstition Springs Lexus will now be held at the Bell Bank Park in Mesa. \nSeptember 30 – October 2\, 2022 \nThis new partnership will allow us to host teams ages U9 through U19.  If you have not been to this world class facility\, then you are in for a treat. We promise you a fun and friendly experience on some of the best fields in the state. \nDo not delay and get your teams signed up today. \nTournament Schedule Link – https://system.gotsport.com/org_event/events/15078
URL:https://aysounited.org/event/ayso-united-arizona-cup/
LOCATION:Bell Bank Park\, 1 Legacy Dr\, Mesa\, AZ\, 85212\, United States
CATEGORIES:Arizona
ATTACH;FMTTYPE=image/png:https://aysounited.org/wp-content/uploads/2022/09/AYSO-United-AZ-Cup-Presented-by-Superstition-Springs-Lexus-1.png
END:VEVENT
BEGIN:VEVENT
DTSTART;TZID=America/Detroit:20220720T000000
DTEND;TZID=America/Detroit:20220720T000000
DTSTAMP:20260423T154512
CREATED:20220720T232723Z
LAST-MODIFIED:20220825T214431Z
UID:7245-1658275200-1658275200@aysounited.org
SUMMARY:To be announced!
DESCRIPTION:Check back soon for more events.
URL:https://aysounited.org/event/test-event/
CATEGORIES:ALABAMA,Antelope Valley,Arizona,Bay Area,Bergen County,Cedar Rapids,Central,Channel Islands,Davis,Diablo Valley,Downey,Hawaii,Home,Knoxville,Los Angeles,New Mexico,North County SD,Orange County,Pacific,Rancho Conejo,Redlands,San Diego,Santa Clarita,Silicon Valley,South Bay,Utah,West Michigan,Wichita
ATTACH;FMTTYPE=image/png:https://aysounited.org/wp-content/uploads/2022/07/COMING-SOON.png
END:VEVENT
END:VCALENDAR