BEGIN:VCALENDAR
VERSION:2.0
PRODID:-//AYSO UNITED - ECPv6.8.1//NONSGML v1.0//EN
CALSCALE:GREGORIAN
METHOD:PUBLISH
X-ORIGINAL-URL:https://aysounited.org
X-WR-CALDESC:Events for AYSO UNITED
REFRESH-INTERVAL;VALUE=DURATION:PT1H
X-Robots-Tag:noindex
X-PUBLISHED-TTL:PT1H
BEGIN:VTIMEZONE
TZID:America/Detroit
BEGIN:DAYLIGHT
TZOFFSETFROM:-0500
TZOFFSETTO:-0400
TZNAME:EDT
DTSTART:20230312T070000
END:DAYLIGHT
BEGIN:STANDARD
TZOFFSETFROM:-0400
TZOFFSETTO:-0500
TZNAME:EST
DTSTART:20231105T060000
END:STANDARD
END:VTIMEZONE
BEGIN:VEVENT
DTSTART;TZID=America/Detroit:20230711T080000
DTEND;TZID=America/Detroit:20230715T170000
DTSTAMP:20260423T154451
CREATED:20221207T164312Z
LAST-MODIFIED:20221215T173112Z
UID:12724-1689062400-1689440400@aysounited.org
SUMMARY:ID64 Camp Back for 2023
DESCRIPTION:We are excited to announce that the ID64 Camp will be back for our selected players this Summer of 2023. \nMore Information to come……. \n 
URL:https://aysounited.org/event/id64-camp-back-for-2023/
LOCATION:Chula Vista National Training Complex\, 2800 Olympic Parkway\, Chula Vista\, CA\, 91915\, United States
CATEGORIES:ALABAMA,Antelope Valley,ANTIETAM,Arizona,Bay Area,Bergen County,Cedar Rapids,Central,Channel Islands,Davis,Diablo Valley,Downey,Hawaii,Knoxville,Los Angeles,New Mexico,North County SD,Orange County,Pacific,Rancho Conejo,Redlands,San Diego,Santa Clarita,Silicon Valley,South Bay,Utah,West Michigan,Wichita
ATTACH;FMTTYPE=image/png:https://aysounited.org/wp-content/uploads/2022/12/033e9c134b7850223f4c43809c39613a.png
END:VEVENT
END:VCALENDAR